BEGIN:VCALENDAR
VERSION:2.0
PRODID:SchoolNow
CALSCALE:GREGORIAN
BEGIN:VEVENT
UID:2479e0dc-1f1a-11f1-b9e5-0a58a9feac02
DTSTAMP:20260330T195547Z
SUMMARY:NO SCHOOL
URL;VALUE=URI:https://www.uticaschools.org/departments/guidance-counseling-
 services/calendar/8915534/no-school
DTSTART:20260409T120000Z
DTEND:20260409T123000Z
END:VEVENT
END:VCALENDAR
