BEGIN:VCALENDAR
VERSION:2.0
PRODID:SchoolNow
CALSCALE:GREGORIAN
BEGIN:VEVENT
UID:fc0e2ffc-217d-11f1-887a-0a58a9feac02
DTSTAMP:20260330T195547Z
SUMMARY:AP Chemistry Exam
URL;VALUE=URI:https://www.uticaschools.org/departments/guidance-counseling-
 services/calendar/8923026/ap-chemistry-exam
DTSTART:20260505T120000Z
DTEND:20260505T150000Z
END:VEVENT
END:VCALENDAR
